BEGIN:VCALENDAR
VERSION:2.0
PRODID:-//InvisionCommunity Events 4.7.17//EN
METHOD:PUBLISH
CALSCALE:GREGORIAN
REFRESH-INTERVAL:PT15M
X-PUBLISHED-TTL:PT15M
X-WR-CALNAME:Events
NAME:Events
BEGIN:VTIMEZONE
TZID:Europe/London
TZURL:http://tzurl.org/zoneinfo/Europe/London
X-LIC-LOCATION:Europe/London
BEGIN:DAYLIGHT
TZOFFSETFROM:+0000
TZOFFSETTO:+0100
TZNAME:BST
DTSTART:20150329T020000Z
RRULE:FREQ=YEARLY;BYMONTH=3;BYDAY=-1SU
END:DAYLIGHT
BEGIN:STANDARD
TZOFFSETFROM:+0100
TZOFFSETTO:+0000
TZNAME:GMT
DTSTART:20151025T020000Z
RRULE:FREQ=YEARLY;BYMONTH=10;BYDAY=-1SU
END:STANDARD
END:VTIMEZONE
BEGIN:VEVENT
SUMMARY:Saturday Night Gaming
DTSTAMP:20150915T203626Z
SEQUENCE:1
UID:102-1-820a0a42d27c95891bcb8a32d14aec9e@nerd.nu
ORGANIZER;CN="SwitchViewz":forums@nerdnu.io
DESCRIPTION:\nHey everyone\, this week we will be doing TF2 again howeve
	r we will be doing Mann VS. Machine. However this isn't just regular MvM. 
	The entire point of this is to goof off and do crazy things. Want a team o
	f 10 engineers? You go it! Want to try and win a wave with 10 snipers? Let
	's do it! And more crazy things.\nPlease note that we can only fit a max o
	f 10 players in a MvM Server so please be on time if you'd like to make it
	! I don't think we will have any issues though.\nSaturday Night Gaming\nWh
	en: Saturday September 19th 6PM PST/9PM EST (Time Converter)\nGame: Team F
	ortress 2\nMode: Mann VS. Machine\nLength: 2 Hours\nWhere: Mumble/Steam\nR
	ecording: Probably\n
DTSTART:20150920T020000Z
END:VEVENT
END:VCALENDAR
