BEGIN:VCALENDAR
VERSION:2.0
PRODID:-//InvisionCommunity Events 4.7.17//EN
METHOD:PUBLISH
CALSCALE:GREGORIAN
REFRESH-INTERVAL:PT15M
X-PUBLISHED-TTL:PT15M
X-WR-CALNAME:Events
NAME:Events
BEGIN:VTIMEZONE
TZID:Europe/London
TZURL:http://tzurl.org/zoneinfo/Europe/London
X-LIC-LOCATION:Europe/London
BEGIN:DAYLIGHT
TZOFFSETFROM:+0000
TZOFFSETTO:+0100
TZNAME:BST
DTSTART:20160327T020000Z
RRULE:FREQ=YEARLY;BYMONTH=3;BYDAY=-1SU
END:DAYLIGHT
BEGIN:STANDARD
TZOFFSETFROM:+0100
TZOFFSETTO:+0000
TZNAME:GMT
DTSTART:20161030T020000Z
RRULE:FREQ=YEARLY;BYMONTH=10;BYDAY=-1SU
END:STANDARD
END:VTIMEZONE
BEGIN:VEVENT
SUMMARY:Nightoak Doppleganger Brawl
DTSTAMP:20160103T232317Z
SEQUENCE:0
UID:114-1-820a0a42d27c95891bcb8a32d14aec9e@nerd.nu
ORGANIZER;CN="SwitchViewz":forums@nerdnu.io
DESCRIPTION:\nThe end of the Rev is less than a week away and that means
	 it is time for the end of Rev festivities! What better way to celebrate t
	he end of the Rev than by dieing a few hundred times to Doppelgangers?\nJo
	in us this Tuesday 1/5 at 5PM PST (8PM EST) for the brawl.\nTimezone Conve
	rter\nPictures on how to get to Nightoak. You can also follow the black wo
	ol from the portal to Nightoak.\nIf you would like to help out by donating
	 to Nightoak we are in dire need of diamonds for doppelgangers.\nWe are pr
	oviding the following gear for the fight but please feel free to bring you
	r own gear!\nFull set of Iron Armor\n\nIron Sword\n\nSplash Health II Poti
	ons\n\nBows and Arrows\n\nFood\n\nSubreddit Post\n
DTSTART:20160106T010000Z
END:VEVENT
END:VCALENDAR
