BEGIN:VCALENDAR
VERSION:2.0
PRODID:-//InvisionCommunity Events 4.7.17//EN
METHOD:PUBLISH
CALSCALE:GREGORIAN
REFRESH-INTERVAL:PT15M
X-PUBLISHED-TTL:PT15M
X-WR-CALNAME:Events
NAME:Events
BEGIN:VTIMEZONE
TZID:Europe/London
TZURL:http://tzurl.org/zoneinfo/Europe/London
X-LIC-LOCATION:Europe/London
BEGIN:DAYLIGHT
TZOFFSETFROM:+0000
TZOFFSETTO:+0100
TZNAME:BST
DTSTART:20160327T020000Z
RRULE:FREQ=YEARLY;BYMONTH=3;BYDAY=-1SU
END:DAYLIGHT
BEGIN:STANDARD
TZOFFSETFROM:+0100
TZOFFSETTO:+0000
TZNAME:GMT
DTSTART:20161030T020000Z
RRULE:FREQ=YEARLY;BYMONTH=10;BYDAY=-1SU
END:STANDARD
END:VTIMEZONE
BEGIN:VEVENT
SUMMARY:Creative Speed Build
DTSTAMP:20160109T021123Z
SEQUENCE:0
UID:115-1-820a0a42d27c95891bcb8a32d14aec9e@nerd.nu
ORGANIZER;CN="Challenger2":forums@nerdnu.io
DESCRIPTION:\nJoin us on the Creative server (c.nerd.nu) for our weekly 
	speed build!\nSpeed build is a building competition where all contestants 
	must build something within a category. There will be three 10 minute roun
	ds and the winner of each round will pick the category for the next round.
	 The winner cannot compete in following round that day.\nStarts every Satu
	rday @ 9PM EDT!\nSee you there!\n
DTSTART;VALUE=DATE:20160109
END:VEVENT
END:VCALENDAR
