BEGIN:VCALENDAR
VERSION:2.0
PRODID:-//InvisionCommunity Events 4.7.17//EN
METHOD:PUBLISH
CALSCALE:GREGORIAN
REFRESH-INTERVAL:PT15M
X-PUBLISHED-TTL:PT15M
X-WR-CALNAME:Events
NAME:Events
BEGIN:VTIMEZONE
TZID:Europe/London
TZURL:http://tzurl.org/zoneinfo/Europe/London
X-LIC-LOCATION:Europe/London
BEGIN:DAYLIGHT
TZOFFSETFROM:+0000
TZOFFSETTO:+0100
TZNAME:BST
DTSTART:20160327T020000Z
RRULE:FREQ=YEARLY;BYMONTH=3;BYDAY=-1SU
END:DAYLIGHT
BEGIN:STANDARD
TZOFFSETFROM:+0100
TZOFFSETTO:+0000
TZNAME:GMT
DTSTART:20161030T020000Z
RRULE:FREQ=YEARLY;BYMONTH=10;BYDAY=-1SU
END:STANDARD
END:VTIMEZONE
BEGIN:VEVENT
SUMMARY:Spleef Club - PvE
DTSTAMP:20160318T192440Z
SEQUENCE:1
UID:126-1-820a0a42d27c95891bcb8a32d14aec9e@nerd.nu
ORGANIZER;CN="Silversunset01":forums@nerdnu.io
DESCRIPTION:\nWeekly Spleef Club on PvE\nSubmit your arenas here\nSign u
	ps are at 5:30pm EDT\, Spleef to being promptly at 6pm. We will try to kee
	p it to an hour.\nTime Converted (for 4/02/16)\n
DTSTART:20160319T223000Z
RRULE:FREQ=weekly;INTERVAL=1;UNTIL=20160529T00000Z
END:VEVENT
END:VCALENDAR
