BEGIN:VCALENDAR
VERSION:2.0
PRODID:-//InvisionCommunity Events 4.7.17//EN
METHOD:PUBLISH
CALSCALE:GREGORIAN
REFRESH-INTERVAL:PT15M
X-PUBLISHED-TTL:PT15M
X-WR-CALNAME:Events
NAME:Events
BEGIN:VTIMEZONE
TZID:Europe/London
TZURL:http://tzurl.org/zoneinfo/Europe/London
X-LIC-LOCATION:Europe/London
BEGIN:DAYLIGHT
TZOFFSETFROM:+0000
TZOFFSETTO:+0100
TZNAME:BST
DTSTART:20160327T020000Z
RRULE:FREQ=YEARLY;BYMONTH=3;BYDAY=-1SU
END:DAYLIGHT
BEGIN:STANDARD
TZOFFSETFROM:+0100
TZOFFSETTO:+0000
TZNAME:GMT
DTSTART:20161030T020000Z
RRULE:FREQ=YEARLY;BYMONTH=10;BYDAY=-1SU
END:STANDARD
END:VTIMEZONE
BEGIN:VEVENT
SUMMARY:Creative Speed Build Competition
DTSTAMP:20160409T211602Z
SEQUENCE:0
UID:134-1-820a0a42d27c95891bcb8a32d14aec9e@nerd.nu
ORGANIZER;CN="Bardidley":forums@nerdnu.io
DESCRIPTION:\nJoin the Speedbuild Competition at 9PM EST\nThree 10 minut
	e rounds of Creative Speed Build\n@ /warp Speedbuild\n
DTSTART;VALUE=DATE:20160430
END:VEVENT
END:VCALENDAR
