BEGIN:VCALENDAR
VERSION:2.0
PRODID:-//InvisionCommunity Events 4.7.17//EN
METHOD:PUBLISH
CALSCALE:GREGORIAN
REFRESH-INTERVAL:PT15M
X-PUBLISHED-TTL:PT15M
X-WR-CALNAME:Events
NAME:Events
BEGIN:VTIMEZONE
TZID:Europe/London
TZURL:http://tzurl.org/zoneinfo/Europe/London
X-LIC-LOCATION:Europe/London
BEGIN:DAYLIGHT
TZOFFSETFROM:+0000
TZOFFSETTO:+0100
TZNAME:BST
DTSTART:20140330T020000Z
RRULE:FREQ=YEARLY;BYMONTH=3;BYDAY=-1SU
END:DAYLIGHT
BEGIN:STANDARD
TZOFFSETFROM:+0100
TZOFFSETTO:+0000
TZNAME:GMT
DTSTART:20141026T020000Z
RRULE:FREQ=YEARLY;BYMONTH=10;BYDAY=-1SU
END:STANDARD
END:VTIMEZONE
BEGIN:VEVENT
SUMMARY:Nightly Speed Build Contest on C
DTSTAMP:20140121T140811Z
SEQUENCE:0
UID:23-1-820a0a42d27c95891bcb8a32d14aec9e@nerd.nu
ORGANIZER;CN="MasterCommaThe":forums@nerdnu.io
DESCRIPTION:\nMasterCommaThe will be hosting a full week of nightly (Edi
	t: 9pm Central) Speed Building Contests from January 25th - January 31st o
	n c.nerd.nu. There will be at least 3 rounds each night that will take pla
	ce in the official Creative Speed Build Arena. The prize is that the winni
	ng builds will be featured in a \"trophy room\" (until someone donates som
	ething else).\nSubmit ideas for build topic for each round here:https://ne
	rd.nu/foru...contest-topics/\n
DTSTART:20140128T030000Z
DTEND:20140128T033000Z
END:VEVENT
END:VCALENDAR
