BEGIN:VCALENDAR
VERSION:2.0
PRODID:-//InvisionCommunity Events 4.7.17//EN
METHOD:PUBLISH
CALSCALE:GREGORIAN
REFRESH-INTERVAL:PT15M
X-PUBLISHED-TTL:PT15M
X-WR-CALNAME:Events
NAME:Events
BEGIN:VTIMEZONE
TZID:Europe/London
TZURL:http://tzurl.org/zoneinfo/Europe/London
X-LIC-LOCATION:Europe/London
BEGIN:DAYLIGHT
TZOFFSETFROM:+0000
TZOFFSETTO:+0100
TZNAME:BST
DTSTART:20130331T020000Z
RRULE:FREQ=YEARLY;BYMONTH=3;BYDAY=-1SU
END:DAYLIGHT
BEGIN:STANDARD
TZOFFSETFROM:+0100
TZOFFSETTO:+0000
TZNAME:GMT
DTSTART:20131027T020000Z
RRULE:FREQ=YEARLY;BYMONTH=10;BYDAY=-1SU
END:STANDARD
END:VTIMEZONE
BEGIN:VEVENT
SUMMARY:Staff and community meeting
DTSTAMP:20130606T034254Z
SEQUENCE:0
UID:3-1-820a0a42d27c95891bcb8a32d14aec9e@nerd.nu
ORGANIZER;CN="WickedCoolSteve":forums@nerdnu.io
DESCRIPTION:https://nerd.nu/forum/index.php?/topic/299-we-will-be-having
	-a-staff-and-general-community-meeting-on-saturday-june-15-at-100pm-edt/
DTSTART:20130615T180000Z
END:VEVENT
END:VCALENDAR
