BEGIN:VCALENDAR
VERSION:2.0
PRODID:-//InvisionCommunity Events 4.7.17//EN
METHOD:PUBLISH
CALSCALE:GREGORIAN
REFRESH-INTERVAL:PT15M
X-PUBLISHED-TTL:PT15M
X-WR-CALNAME:Events
NAME:Events
BEGIN:VTIMEZONE
TZID:Europe/London
TZURL:http://tzurl.org/zoneinfo/Europe/London
X-LIC-LOCATION:Europe/London
BEGIN:DAYLIGHT
TZOFFSETFROM:+0000
TZOFFSETTO:+0100
TZNAME:BST
DTSTART:20140330T020000Z
RRULE:FREQ=YEARLY;BYMONTH=3;BYDAY=-1SU
END:DAYLIGHT
BEGIN:STANDARD
TZOFFSETFROM:+0100
TZOFFSETTO:+0000
TZNAME:GMT
DTSTART:20141026T020000Z
RRULE:FREQ=YEARLY;BYMONTH=10;BYDAY=-1SU
END:STANDARD
END:VTIMEZONE
BEGIN:VEVENT
SUMMARY:Survival Arena League
DTSTAMP:20140612T050922Z
SEQUENCE:0
UID:38-1-820a0a42d27c95891bcb8a32d14aec9e@nerd.nu
ORGANIZER;CN="Mrloud15":forums@nerdnu.io
DESCRIPTION:\nArena #1\nWhen: Saturday June 14th - 6:00 pm EDT\nWhere: s
	.nerd.nu\nThe Survival Arena League is a series of weekly arena nights on 
	s.nerd.nu to encourage top-tier PVP\, all the time. In addition to the usu
	al prizes given out for arena fights\, we'll be keeping score throughout t
	he revision. The top-scoring players at the end of the revision win fabulo
	us prizes:\n\nTop scorer gets a monument built in their honor in the next 
	S spawn!\n\nSAL leaderboard will be displayed in game after each arena\n\n
	\nThere will be four different types of fights that you can earn points in
	:\n1v1 (duels)\n\n1v1v1v1 (4-ways)\n\nFree-for-alls\n\nMob free-for-alls\n
	\n\nWe will not be supplying any gear for these fights\, so you must bring
	 any items you would like to use (you will have access to an enderchest). 
	For information about the rules and scoring\, check out the SAL spreadshee
	t. \nCan't wait to see you guys there!\n
DTSTART:20140614T230000Z
END:VEVENT
END:VCALENDAR
