BEGIN:VCALENDAR
VERSION:2.0
PRODID:-//InvisionCommunity Events 4.7.17//EN
METHOD:PUBLISH
CALSCALE:GREGORIAN
REFRESH-INTERVAL:PT15M
X-PUBLISHED-TTL:PT15M
X-WR-CALNAME:Events
NAME:Events
BEGIN:VTIMEZONE
TZID:Europe/London
TZURL:http://tzurl.org/zoneinfo/Europe/London
X-LIC-LOCATION:Europe/London
BEGIN:DAYLIGHT
TZOFFSETFROM:+0000
TZOFFSETTO:+0100
TZNAME:BST
DTSTART:20130331T020000Z
RRULE:FREQ=YEARLY;BYMONTH=3;BYDAY=-1SU
END:DAYLIGHT
BEGIN:STANDARD
TZOFFSETFROM:+0100
TZOFFSETTO:+0000
TZNAME:GMT
DTSTART:20131027T020000Z
RRULE:FREQ=YEARLY;BYMONTH=10;BYDAY=-1SU
END:STANDARD
END:VTIMEZONE
BEGIN:VEVENT
SUMMARY:Capture the Flag Fundraiser Event!
DTSTAMP:20130616T055901Z
SEQUENCE:1
UID:4-1-820a0a42d27c95891bcb8a32d14aec9e@nerd.nu
ORGANIZER;CN="WickedCoolSteve":forums@nerdnu.io
DESCRIPTION:An exhilarating capture the flag event to raise funds to hel
	p maintain and improve the MCPublic servers for the next year! Donations a
	re as always 100% voluntary\, anyone can play. Check out this post for det
	ails http://www.reddit.com/r/mcpublic/comments/1getij/please_join_us_for_o
	ur_next_ctf_event/
DTSTART:20130622T210000Z
END:VEVENT
END:VCALENDAR
