BEGIN:VCALENDAR
VERSION:2.0
PRODID:-//InvisionCommunity Events 4.7.17//EN
METHOD:PUBLISH
CALSCALE:GREGORIAN
REFRESH-INTERVAL:PT15M
X-PUBLISHED-TTL:PT15M
X-WR-CALNAME:Events
NAME:Events
BEGIN:VTIMEZONE
TZID:Europe/London
TZURL:http://tzurl.org/zoneinfo/Europe/London
X-LIC-LOCATION:Europe/London
BEGIN:DAYLIGHT
TZOFFSETFROM:+0000
TZOFFSETTO:+0100
TZNAME:BST
DTSTART:20140330T020000Z
RRULE:FREQ=YEARLY;BYMONTH=3;BYDAY=-1SU
END:DAYLIGHT
BEGIN:STANDARD
TZOFFSETFROM:+0100
TZOFFSETTO:+0000
TZNAME:GMT
DTSTART:20141026T020000Z
RRULE:FREQ=YEARLY;BYMONTH=10;BYDAY=-1SU
END:STANDARD
END:VTIMEZONE
BEGIN:VEVENT
SUMMARY:PvE Mumble Meeting 1
DTSTAMP:20140723T004804Z
SEQUENCE:0
UID:40-1-820a0a42d27c95891bcb8a32d14aec9e@nerd.nu
ORGANIZER;CN="kitcatbar":forums@nerdnu.io
DESCRIPTION:\nAs discussed in this thread\, we have two PvE mumble meeti
	ngs coming up. So since long meetings aren't the most enjoyable\, we're go
	ing to split the topics here into two groups and have two separate meeting
	s a week apart. The first will be this Saturday\, July 26th at 5:00 PM eas
	tern time. The second will be the following Saturday\, August 2nd also at 
	5 PM eastern time. The topics will be split like this:\nMeeting One\nNew c
	rafting recipes/blocks\n\n1.8 new rev? When is the new rev in general?\n\n
	Experiemental PvE revs\n\nMap types\n\nPortal system/changes\n\n\nMeeting 
	Two\nCustom nether\n\nChanging the nether ratio\n\nSending items to other 
	players\n\nTrade chests\n\nPvP arena sizes\n\n\nHopefully with split will 
	allow for us time to focus and give topics plenty of discussion while also
	 allowing space for additional ideas that might come up as the meeting goe
	s along.\n
DTSTART:20140726T220000Z
END:VEVENT
END:VCALENDAR
