BEGIN:VCALENDAR
VERSION:2.0
PRODID:-//InvisionCommunity Events 4.7.17//EN
METHOD:PUBLISH
CALSCALE:GREGORIAN
REFRESH-INTERVAL:PT15M
X-PUBLISHED-TTL:PT15M
X-WR-CALNAME:Events
NAME:Events
BEGIN:VTIMEZONE
TZID:Europe/London
TZURL:http://tzurl.org/zoneinfo/Europe/London
X-LIC-LOCATION:Europe/London
BEGIN:DAYLIGHT
TZOFFSETFROM:+0000
TZOFFSETTO:+0100
TZNAME:BST
DTSTART:20150329T020000Z
RRULE:FREQ=YEARLY;BYMONTH=3;BYDAY=-1SU
END:DAYLIGHT
BEGIN:STANDARD
TZOFFSETFROM:+0100
TZOFFSETTO:+0000
TZNAME:GMT
DTSTART:20151025T020000Z
RRULE:FREQ=YEARLY;BYMONTH=10;BYDAY=-1SU
END:STANDARD
END:VTIMEZONE
BEGIN:VEVENT
SUMMARY:Saturday Night Special - Civ 5
DTSTAMP:20150302T001746Z
SEQUENCE:0
UID:70-1-820a0a42d27c95891bcb8a32d14aec9e@nerd.nu
ORGANIZER;CN="SwitchViewz":forums@nerdnu.io
DESCRIPTION:\nHey everyone\, I am happy to announce our first special ev
	ent for this upcoming week! In addition to the Saturday Special we will al
	so be doing the regular Friday Night Gaming\, however we will be doing a g
	ame that we have done before (TTT). We are also doing an even later time t
	his week to accommodate people that are working in hopes of having more jo
	in us.\nNote 1: You will need to SIGN UP for the Saturday Special as there
	 is only so many slots\, you can do that by clicking here.\nNote 2: We wil
	l be playing with ALL DLC (Gods &amp\; Kings + Brave New World). If you do
	 not own any of these\, please sign up anyway but state you do not have th
	em. We may decided to not play with DLC if not enough people show up.\nNot
	e 3: Don't forget this weekend is day light savings\nSaturday Night Specia
	l\nWhen: Saturday March 7th at 8PM PST/11PM EST (Time Converter)\nGame: Ci
	vilization 5\nLength: 5 Hours\nWhere: Mumble/Steam\nRecording: No\nGame Se
	ttings:\nNote: These are subject to change depending on what everyone want
	s when we start)\nMode: Domination ONLY Victory\nAI?: No\, unless not enou
	gh people show up\nMap Size: Large or Huge\nPlayers: 10\, may increase to 
	12 depending on how many signups\nGame Speed: Quick\nResources: Balanced\,
	 may change to Abundant\nDLC: Gods &amp\; Kings\, Brave New World\, may ch
	ange if not enough people have these\n
DTSTART:20150308T040000Z
DTEND:20150308T100000Z
END:VEVENT
END:VCALENDAR
