BEGIN:VCALENDAR
VERSION:2.0
PRODID:-//InvisionCommunity Events 4.7.17//EN
METHOD:PUBLISH
CALSCALE:GREGORIAN
REFRESH-INTERVAL:PT15M
X-PUBLISHED-TTL:PT15M
X-WR-CALNAME:Events
NAME:Events
BEGIN:VTIMEZONE
TZID:Europe/London
TZURL:http://tzurl.org/zoneinfo/Europe/London
X-LIC-LOCATION:Europe/London
BEGIN:DAYLIGHT
TZOFFSETFROM:+0000
TZOFFSETTO:+0100
TZNAME:BST
DTSTART:20150329T020000Z
RRULE:FREQ=YEARLY;BYMONTH=3;BYDAY=-1SU
END:DAYLIGHT
BEGIN:STANDARD
TZOFFSETFROM:+0100
TZOFFSETTO:+0000
TZNAME:GMT
DTSTART:20151025T020000Z
RRULE:FREQ=YEARLY;BYMONTH=10;BYDAY=-1SU
END:STANDARD
END:VTIMEZONE
BEGIN:VEVENT
SUMMARY:Survival Rev28 Launches
DTSTAMP:20150306T182510Z
SEQUENCE:1
UID:74-1-820a0a42d27c95891bcb8a32d14aec9e@nerd.nu
ORGANIZER;CN="LadyRavenOwl":forums@nerdnu.io
DESCRIPTION:This is the planned launch date of our coming Survival rev. 
	Launch time is 8 pm CDT. Not in Central Daylight Time? Figure out when it 
	is for you here. For any questions or information about the coming rev\, p
	lease go here\, here or here. We are also available on the various servers
	 at times\, IRC\, and of course forum PMs.
DTSTART:20150404T020000Z
END:VEVENT
END:VCALENDAR
