BEGIN:VCALENDAR
VERSION:2.0
PRODID:-//InvisionCommunity Events 4.7.17//EN
METHOD:PUBLISH
CALSCALE:GREGORIAN
REFRESH-INTERVAL:PT15M
X-PUBLISHED-TTL:PT15M
X-WR-CALNAME:Events
NAME:Events
BEGIN:VTIMEZONE
TZID:Europe/London
TZURL:http://tzurl.org/zoneinfo/Europe/London
X-LIC-LOCATION:Europe/London
BEGIN:DAYLIGHT
TZOFFSETFROM:+0000
TZOFFSETTO:+0100
TZNAME:BST
DTSTART:20150329T020000Z
RRULE:FREQ=YEARLY;BYMONTH=3;BYDAY=-1SU
END:DAYLIGHT
BEGIN:STANDARD
TZOFFSETFROM:+0100
TZOFFSETTO:+0000
TZNAME:GMT
DTSTART:20151025T020000Z
RRULE:FREQ=YEARLY;BYMONTH=10;BYDAY=-1SU
END:STANDARD
END:VTIMEZONE
BEGIN:VEVENT
SUMMARY:Friday Night Gaming!
DTSTAMP:20150318T210103Z
SEQUENCE:1
UID:77-1-820a0a42d27c95891bcb8a32d14aec9e@nerd.nu
ORGANIZER;CN="SwitchViewz":forums@nerdnu.io
DESCRIPTION:\nFriday Night Gaming\nWhen: Friday March 13th 8PM PST/11PM 
	EST (Time Converter)\nGame: Counter Strike: Global Offensive\nMode: Undeci
	ded\, will decide when we play\nLength: 2 Hours\nWhere: Mumble/Steam\nReco
	rding: No\n
DTSTART:20150314T040000Z
DTEND:20150314T060000Z
END:VEVENT
END:VCALENDAR
