BEGIN:VCALENDAR
VERSION:2.0
PRODID:-//InvisionCommunity Events 4.7.17//EN
METHOD:PUBLISH
CALSCALE:GREGORIAN
REFRESH-INTERVAL:PT15M
X-PUBLISHED-TTL:PT15M
X-WR-CALNAME:Events
NAME:Events
BEGIN:VTIMEZONE
TZID:Europe/London
TZURL:http://tzurl.org/zoneinfo/Europe/London
X-LIC-LOCATION:Europe/London
BEGIN:DAYLIGHT
TZOFFSETFROM:+0000
TZOFFSETTO:+0100
TZNAME:BST
DTSTART:20150329T020000Z
RRULE:FREQ=YEARLY;BYMONTH=3;BYDAY=-1SU
END:DAYLIGHT
BEGIN:STANDARD
TZOFFSETFROM:+0100
TZOFFSETTO:+0000
TZNAME:GMT
DTSTART:20151025T020000Z
RRULE:FREQ=YEARLY;BYMONTH=10;BYDAY=-1SU
END:STANDARD
END:VTIMEZONE
BEGIN:VEVENT
SUMMARY:Puzzle Challenge 3
DTSTAMP:20150408T222136Z
SEQUENCE:0
UID:78-1-820a0a42d27c95891bcb8a32d14aec9e@nerd.nu
ORGANIZER;CN="fazaden":forums@nerdnu.io
DESCRIPTION:\nThis Saturday\, April 11 at roughly 2:30pm EST (That's 6:3
	0pm UTC)\, Puzzle Challenge 3 will begin!\nThe Rules: \n-Solve puzzles\, c
	rack codes\, and search all over the map on the Creative Server. It's quit
	e a mental workout!\n-The first clue will be announced on our subreddit\, 
	reddit.com/r/mcpublic at 6:30pm UTC.\n-The fastest few people to complete 
	the challenge will win a fabulous prize!\n-Further instructions will be gi
	ven at the first puzzle on Saturday.\nThe Prizes:\n-1st place winner gets 
	subreddit flair\, along with their pick of one of the following prizes:\n-
	$1000 survival cash (to be used on Survival only\, obviously)\n\n-A well-e
	nchanted pickaxe (On either C\, S\, or P)\n\n-A well-enchanted sword (On e
	ither C\, S\, or P)\n\n\n-The 2nd place winner gets to choose one of the r
	emaining two prizes\, while the leftover prize will go to 3rd place.\nFor 
	further questions\, ask in this thread.\, or in the accompanying subreddit
	 post.\n
DTSTART:20150411T193000Z
END:VEVENT
END:VCALENDAR
