BEGIN:VCALENDAR
VERSION:2.0
PRODID:-//InvisionCommunity Events 4.7.17//EN
METHOD:PUBLISH
CALSCALE:GREGORIAN
REFRESH-INTERVAL:PT15M
X-PUBLISHED-TTL:PT15M
X-WR-CALNAME:Events
NAME:Events
BEGIN:VTIMEZONE
TZID:Europe/London
TZURL:http://tzurl.org/zoneinfo/Europe/London
X-LIC-LOCATION:Europe/London
BEGIN:DAYLIGHT
TZOFFSETFROM:+0000
TZOFFSETTO:+0100
TZNAME:BST
DTSTART:20150329T020000Z
RRULE:FREQ=YEARLY;BYMONTH=3;BYDAY=-1SU
END:DAYLIGHT
BEGIN:STANDARD
TZOFFSETFROM:+0100
TZOFFSETTO:+0000
TZNAME:GMT
DTSTART:20151025T020000Z
RRULE:FREQ=YEARLY;BYMONTH=10;BYDAY=-1SU
END:STANDARD
END:VTIMEZONE
BEGIN:VEVENT
SUMMARY:First Maze Arena of Rev 28!
DTSTAMP:20150410T005833Z
SEQUENCE:0
UID:79-1-820a0a42d27c95891bcb8a32d14aec9e@nerd.nu
ORGANIZER;CN="LadyRavenOwl":forums@nerdnu.io
DESCRIPTION:Join us for our first Maze Arena of the Revision!  You can f
	ind information about the arena schedule and rules here!  Can't wait to se
	e you all there!  &lt\;3
DTSTART:20150412T010000Z
END:VEVENT
END:VCALENDAR
