BEGIN:VCALENDAR
VERSION:2.0
PRODID:-//InvisionCommunity Events 4.7.17//EN
METHOD:PUBLISH
CALSCALE:GREGORIAN
REFRESH-INTERVAL:PT15M
X-PUBLISHED-TTL:PT15M
X-WR-CALNAME:Events
NAME:Events
BEGIN:VTIMEZONE
TZID:Europe/London
TZURL:http://tzurl.org/zoneinfo/Europe/London
X-LIC-LOCATION:Europe/London
BEGIN:DAYLIGHT
TZOFFSETFROM:+0000
TZOFFSETTO:+0100
TZNAME:BST
DTSTART:20150329T020000Z
RRULE:FREQ=YEARLY;BYMONTH=3;BYDAY=-1SU
END:DAYLIGHT
BEGIN:STANDARD
TZOFFSETFROM:+0100
TZOFFSETTO:+0000
TZNAME:GMT
DTSTART:20151025T020000Z
RRULE:FREQ=YEARLY;BYMONTH=10;BYDAY=-1SU
END:STANDARD
END:VTIMEZONE
BEGIN:VEVENT
SUMMARY:Weekly Speed Build
DTSTAMP:20150604T121053Z
SEQUENCE:1
UID:81-1-820a0a42d27c95891bcb8a32d14aec9e@nerd.nu
ORGANIZER;CN="Guest":forums@nerdn
	u.io
DESCRIPTION:\nThe weekly speed build will be hosted on c.nerd.nu every S
	aturday at 9PM EST for up to an hour\, there are three 10-15 minute rounds
	.\nAccess the event while on the creative server by using /warp speedbuild
	\n
DTSTART:20150614T020000Z
RRULE:FREQ=weekly;INTERVAL=1;UNTIL=20150614T30000Z
END:VEVENT
END:VCALENDAR
