BEGIN:VCALENDAR
VERSION:2.0
PRODID:-//InvisionCommunity Events 4.7.17//EN
METHOD:PUBLISH
CALSCALE:GREGORIAN
REFRESH-INTERVAL:PT15M
X-PUBLISHED-TTL:PT15M
X-WR-CALNAME:Events
NAME:Events
BEGIN:VTIMEZONE
TZID:Europe/London
TZURL:http://tzurl.org/zoneinfo/Europe/London
X-LIC-LOCATION:Europe/London
BEGIN:DAYLIGHT
TZOFFSETFROM:+0000
TZOFFSETTO:+0100
TZNAME:BST
DTSTART:20150329T020000Z
RRULE:FREQ=YEARLY;BYMONTH=3;BYDAY=-1SU
END:DAYLIGHT
BEGIN:STANDARD
TZOFFSETFROM:+0100
TZOFFSETTO:+0000
TZNAME:GMT
DTSTART:20151025T020000Z
RRULE:FREQ=YEARLY;BYMONTH=10;BYDAY=-1SU
END:STANDARD
END:VTIMEZONE
BEGIN:VEVENT
SUMMARY:Mumble Fireside Chat
DTSTAMP:20150713T171852Z
SEQUENCE:0
UID:89-1-820a0a42d27c95891bcb8a32d14aec9e@nerd.nu
ORGANIZER;CN="SwitchViewz":forums@nerdnu.io
DESCRIPTION:\nThe next mumble fireside chat will take place this friday.
	\nFriday July 17th at 8PM EDT / 5PM PST.\nCurrent attending staff will be 
	SwitchViewz\, c45y\, Silversunset01. (Subject to change)\n
DTSTART:20150718T010000Z
DTEND:20150718T030000Z
END:VEVENT
END:VCALENDAR
